Workbook
Name group: 'Data Tables'!$M$36:$M$63
Name overall: 'Data Tables'!$N$36:$N$63

Sheet Data Tables
A1: Entry Time (seconds)
A2: Participant | B2: Initials | C2: Opti (A) | H2: QWERTY (B) | M2: Group
C3: 1 | D3: 2 | E3: 3 | F3: 4 | G3: 5 | H3: 1 | I3: 2 | J3: 3 | K3: 4 | L3: 5
A4: P1 | B4: JN | C4: 69 | D4: 58 | E4: 52 | H4: 20 | I4: 17 | J4: 12 | K4: 12 | L4: 11 | M4: 1 | N4: 1 or 2
A5: P2 | B5: LM | C5: 61 | D5: 48 | E5: 52 | F5: 43 | G5: 37 | H5: 17 | I5: 14 | J5: 11 | K5: 12 | L5: 11 | M5: 2
A6: P3 | B6: SD | C6: 57 | D6: 61 | E6: 54 | F6: 50 | H6: 26 | I6: 21 | J6: 18 | K6: 17 | L6: 18 | M6: 1
A7: P4 | B7: FF | C7: 66 | D7: 54 | E7: 51 | F7: 49 | G7: 51 | H7: 28 | I7: 20 | J7: 21 | K7: 19 | L7: 18 | M7: 2
A8: P5 | B8: GC | C8: 51 | D8: 43 | E8: 37 | F8: 27 | G8: 29 | H8: 14 | I8: 11 | J8: 11 | K8: 11 | L8: 12 | M8: 1
A9: P6 | B9: AK | C9: 86 | D9: 62 | E9: 63 | F9: 67 | G9: 57 | H9: 12 | I9: 10 | J9: 9 | K9: 11 | L9: 9 | M9: 2
A10: P7 | B10: QM | C10: 79 | D10: 92 | E10: 62 | F10: 55 | G10: 58 | H10: 20 | I10: 17 | J10: 16 | K10: 13 | L10: 14 | M10: 1
A11: P8 | B11: JW | C11: 66 | D11: 68 | E11: 65 | F11: 51 | G11: 50 | H11: 17 | I11: 18 | J11: 14 | K11: 14 | L11: 12 | M11: 2
A12: P9 | B12: DK | C12: 50 | D12: 52 | E12: 49 | F12: 41 | G12: 37 | H12: 19 | I12: 15 | J12: 15 | K12: 16 | L12: 15 | M12: 1
A13: P10 | B13: BR | C13: 44 | D13: 41 | E13: 33 | F13: 29 | G13: 34 | H13: 21 | I13: 15 | J13: 14 | K13: 16 | L13: 15 | M13: 2
A14: P11 | B14: JS | C14: 40 | D14: 35 | E14: 33 | F14: 41 | G14: 28 | H14: 12 | I14: 10 | J14: 9 | K14: 11 | L14: 9 | M14: 1
A15: P12 | B15: JK | C15: 47 | D15: 47 | E15: 36 | F15: 42 | G15: 34 | H15: 19 | I15: 15 | J15: 13 | K15: 13 | L15: 11 | M15: 2
A16: P13 | B16: BF | C16: 51 | D16: 26 | E16: 40 | F16: 35 | G16: 41 | H16: 14 | I16: 10 | J16: 10 | K16: 9 | L16: 9 | M16: 1
A17: P14 | B17: BS | C17: 56 | D17: 50 | E17: 49 | F17: 49 | G17: 35 | H17: 14 | I17: 14 | J17: 11 | K17: 10 | L17: 9 | M17: 2
A18: P15 | B18: KW | C18: 67 | D18: 49 | E18: 39 | F18: 50 | G18: 42 | H18: 13 | I18: 11 | J18: 9 | K18: 8 | L18: 10 | M18: 1
... A31: P28 | B31: MK | C31: 46 | D31: 46 | E31: 35 | F31: 37 | G31: 45 | H31: 18 | I31: 16 | J31: 14 | K31: 13 | L31: 17 | M31: 2
A33: Entry Speed (wpm)
A34: Participant | B34: Initials | C34: =C2 -> Opti (A) | H34: =H2 -> QWERTY (B) | M34: Group | N34: Overall | P34: =C34 -> Opti (A) | R34: =H34 -> QWERTY (B)
C35: 1 | D35: 2 | E35: 3 | F35: 4 | G35: 5 | H35: 1 | I35: 2 | J35: 3 | K35: 4 | L35: 5 | N35: Mean | O35: SD | P35: Mean | Q35: SD | R35: Mean | S35: SD
A36: =A4 -> P1 | B36: =B4 -> JN | C36: =(43/5)/(C4/60) -> 7.4782609 | D36: =(43/5)/(D4/60) -> 8.8965517 | E36: =(43/5)/(E4/60) -> 9.9230769 | F36: 25 | G36: 25 | H36: =(43/5)/(H4/60) -> 25.8 | I36: =(43/5)/(I4/60) -> 30.352941 | J36: =(43/5)/(J4/60) -> 43 | K36: =(43/5)/(K4/60) -> 43 | L36: =(43/5)/(L4/60) -> 46.909091 | M36: =M4 -> 1 | N36: =AVERAGE(C36:L36) -> 26.535992 | O36: =STDEV(C36:L36) -> 14.633886 | P36: =AVERAGE(C36:G36) -> 15.259578 | Q36: =STDEV(C36:G36) -> 8.9340204 | R36: =AVERAGE(H36:L36) -> 37.812406 | S36: =STDEV(H36:L36) -> 9.1721515
A37: =A5 -> P2 | B37: =B5 -> LM | C37: =(43/5)/(C5/60) -> 8.4590164 | D37: =(43/5)/(D5/60) -> 10.75 | E37: =(43/5)/(E5/60) -> 9.9230769 | F37: =(43/5)/(F5/60) -> 12 | G37: =(43/5)/(G5/60) -> 13.945946 | H37: =(43/5)/(H5/60) -> 30.352941 | I37: =(43/5)/(I5/60) -> 36.857143 | J37: =(43/5)/(J5/60) -> 46.909091 | ... L37: =(43/5)/(L5/60) -> 46.909091 | M37: =M5 -> 2 | N37: =AVERAGE(C37:L37) -> 25.910631 | O37: =STDEV(C37:L37) -> 16.465932 | P37: =AVERAGE(C37:G37) -> 11.015608 | Q37: =STDEV(C37:G37) -> 2.0830411 | R37: =AVERAGE(H37:L37) -> 40.805653 | S37: =STDEV(H37:L37) -> 7.1443856
A38: =A6 -> P3 | B38: =B6 -> SD | C38: =(43/5)/(C6/60) -> 9.0526316 | D38: =(43/5)/(D6/60) -> 8.4590164 | E38: =(43/5)/(E6/60) -> 9.5555556 | F38: =(43/5)/(F6/60) -> 10.32 | G38: 25 | H38: =(43/5)/(H6/60) -> 19.846154 | I38: =(43/5)/(I6/60) -> 24.571429 | J38: =(43/5)/(J6/60) -> 28.666667 | K38: =(43/5)/(K6/60) -> 30.352941 | L38: =(43/5)/(L6/60) -> 28.666667 | M38: =M6 -> 1 | N38: =AVERAGE(C38:L38) -> 19.449106 | O38: =STDEV(C38:L38) -> 9.1658812 | P38: =AVERAGE(C38:G38) -> 12.477441 | Q38: =STDEV(C38:G38) -> 7.0335536 | R38: =AVERAGE(H38:L38) -> 26.420771 | S38: =STDEV(H38:L38) -> 4.2484031
A39: =A7 -> P4 | B39: =B7 -> FF | C39: =(43/5)/(C7/60) -> 7.8181818 | D39: =(43/5)/(D7/60) -> 9.5555556 | E39: =(43/5)/(E7/60) -> 10.117647 | F39: =(43/5)/(F7/60) -> 10.530612 | G39: =(43/5)/(G7/60) -> 10.117647 | H39: =(43/5)/(H7/60) -> 18.428571 | I39: =(43/5)/(I7/60) -> 25.8 | J39: =(43/5)/(J7/60) -> 24.571429 | ... L39: =(43/5)/(L7/60) -> 28.666667 | M39: =M7 -> 2 | N39: =AVERAGE(C39:L39) -> 17.276421 | O39: =STDEV(C39:L39) -> 8.5091407 | P39: =AVERAGE(C39:G39) -> 9.6279287 | Q39: =STDEV(C39:G39) -> 1.0694517 | R39: =AVERAGE(H39:L39) -> 24.924912 | S39: =STDEV(H39:L39) -> 3.9395466
A40: =A8 -> P5 | B40: =B8 -> GC | C40: =(43/5)/(C8/60) -> 10.117647 | D40: =(43/5)/(D8/60) -> 12 | E40: =(43/5)/(E8/60) -> 13.945946 | F40: =(43/5)/(F8/60) -> 19.111111 | G40: =(43/5)/(G8/60) -> 17.793103 | H40: =(43/5)/(H8/60) -> 36.857143 | I40: =(43/5)/(I8/60) -> 46.909091 | J40: =(43/5)/(J8/60) -> 46.909091 | ... L40: =(43/5)/(L8/60) -> 43 | M40: =M8 -> 1 | N40: =AVERAGE(C40:L40) -> 29.355222 | O40: =STDEV(C40:L40) -> 16.035488 | P40: =AVERAGE(C40:G40) -> 14.593562 | Q40: =STDEV(C40:G40) -> 3.8021409 | R40: =AVERAGE(H40:L40) -> 44.116883 | S40: =STDEV(H40:L40) -> 4.3971732
A41: =A9 -> P6 | B41: =B9 -> AK | C41: =(43/5)/(C9/60) -> 6 | D41: =(43/5)/(D9/60) -> 8.3225806 | E41: =(43/5)/(E9/60) -> 8.1904762 | F41: =(43/5)/(F9/60) -> 7.7014925 | G41: =(43/5)/(G9/60) -> 9.0526316 | H41: =(43/5)/(H9/60) -> 43 | I41: =(43/5)/(I9/60) -> 51.6 | J41: =(43/5)/(J9/60) -> 57.333333 | ... L41: =(43/5)/(L9/60) -> 57.333333 | M41: =M9 -> 2 | N41: =AVERAGE(C41:L41) -> 29.544294 | O41: =STDEV(C41:L41) -> 23.264671 | P41: =AVERAGE(C41:G41) -> 7.8534362 | Q41: =STDEV(C41:G41) -> 1.1434678 | R41: =AVERAGE(H41:L41) -> 51.235152 | S41: =STDEV(H41:L41) -> 6.345102
A42: =A10 -> P7 | B42: =B10 -> QM | C42: =(43/5)/(C10/60) -> 6.5316456 | D42: =(43/5)/(D10/60) -> 5.6086957 | E42: =(43/5)/(E10/60) -> 8.3225806 | F42: =(43/5)/(F10/60) -> 9.3818182 | G42: =(43/5)/(G10/60) -> 8.8965517 | H42: =(43/5)/(H10/60) -> 25.8 | I42: =(43/5)/(I10/60) -> 30.352941 | J42: =(43/5)/(J10/60) -> 32.25 | ... L42: =(43/5)/(L10/60) -> 36.857143 | M42: =M10 -> 1 | N42: =AVERAGE(C42:L42) -> 20.369368 | O42: =STDEV(C42:L42) -> 13.833825 | P42: =AVERAGE(C42:G42) -> 7.7482584 | Q42: =STDEV(C42:G42) -> 1.6104981 | R42: =AVERAGE(H42:L42) -> 32.990478 | S42: =STDEV(H42:L42) -> 5.4560402
A43: =A11 -> P8 | B43: =B11 -> JW | C43: =(43/5)/(C11/60) -> 7.8181818 | D43: =(43/5)/(D11/60) -> 7.5882353 | E43: =(43/5)/(E11/60) -> 7.9384615 | F43: =(43/5)/(F11/60) -> 10.117647 | G43: =(43/5)/(G11/60) -> 10.32 | H43: =(43/5)/(H11/60) -> 30.352941 | I43: =(43/5)/(I11/60) -> 28.666667 | J43: =(43/5)/(J11/60) -> 36.857143 | ... L43: =(43/5)/(L11/60) -> 43 | M43: =M11 -> 2 | N43: =AVERAGE(C43:L43) -> 21.951642 | O43: =STDEV(C43:L43) -> 14.456158 | P43: =AVERAGE(C43:G43) -> 8.7565051 | Q43: =STDEV(C43:G43) -> 1.3427327 | R43: =AVERAGE(H43:L43) -> 35.146779 | S43: =STDEV(H43:L43) -> 5.7553563
A44: =A12 -> P9 | B44: =B12 -> DK | C44: =(43/5)/(C12/60) -> 10.32 | D44: =(43/5)/(D12/60) -> 9.9230769 | E44: =(43/5)/(E12/60) -> 10.530612 | F44: =(43/5)/(F12/60) -> 12.585366 | G44: =(43/5)/(G12/60) -> 13.945946 | H44: =(43/5)/(H12/60) -> 27.157895 | I44: =(43/5)/(I12/60) -> 34.4 | J44: =(43/5)/(J12/60) -> 34.4 | ... L44: =(43/5)/(L12/60) -> 34.4 | M44: =M12 -> 1 | N44: =AVERAGE(C44:L44) -> 21.99129 | O44: =STDEV(C44:L44) -> 11.354246 | P44: =AVERAGE(C44:G44) -> 11.461 | Q44: =STDEV(C44:G44) -> 1.7300191 | R44: =AVERAGE(H44:L44) -> 32.521579 | S44: =STDEV(H44:L44) -> 3.1395963
A45: =A13 -> P10 | B45: =B13 -> BR | C45: =(43/5)/(C13/60) -> 11.727273 | D45: =(43/5)/(D13/60) -> 12.585366 | E45: =(43/5)/(E13/60) -> 15.636364 | F45: =(43/5)/(F13/60) -> 17.793103 | G45: =(43/5)/(G13/60) -> 15.176471 | H45: =(43/5)/(H13/60) -> 24.571429 | I45: =(43/5)/(I13/60) -> 34.4 | J45: =(43/5)/(J13/60) -> 36.857143 | ... L45: =(43/5)/(L13/60) -> 34.4 | M45: =M13 -> 2 | N45: =AVERAGE(C45:L45) -> 23.539715 | O45: =STDEV(C45:L45) -> 10.083765 | P45: =AVERAGE(C45:G45) -> 14.583715 | Q45: =STDEV(C45:G45) -> 2.4450084 | R45: =AVERAGE(H45:L45) -> 32.495714 | S45: =STDEV(H45:L45) -> 4.720417
A46: =A14 -> P11 | B46: =B14 -> JS | C46: =(43/5)/(C14/60) -> 12.9 | D46: =(43/5)/(D14/60) -> 14.742857 | E46: =(43/5)/(E14/60) -> 15.636364 | F46: =(43/5)/(F14/60) -> 12.585366 | G46: =(43/5)/(G14/60) -> 18.428571 | H46: =(43/5)/(H14/60) -> 43 | I46: =(43/5)/(I14/60) -> 51.6 | J46: =(43/5)/(J14/60) -> 57.333333 | ... L46: =(43/5)/(L14/60) -> 57.333333 | M46: =M14 -> 1 | N46: =AVERAGE(C46:L46) -> 33.046892 | O46: =STDEV(C46:L46) -> 19.696407 | P46: =AVERAGE(C46:G46) -> 14.858632 | Q46: =STDEV(C46:G46) -> 2.3646731 | R46: =AVERAGE(H46:L46) -> 51.235152 | S46: =STDEV(H46:L46) -> 6.345102
A47: =A15 -> P12 | B47: =B15 -> JK | C47: =(43/5)/(C15/60) -> 10.978723 | D47: =(43/5)/(D15/60) -> 10.978723 | E47: =(43/5)/(E15/60) -> 14.333333 | F47: =(43/5)/(F15/60) -> 12.285714 | G47: =(43/5)/(G15/60) -> 15.176471 | H47: =(43/5)/(H15/60) -> 27.157895 | I47: =(43/5)/(I15/60) -> 34.4 | J47: =(43/5)/(J15/60) -> 39.692308 | ... L47: =(43/5)/(L15/60) -> 46.909091 | M47: =M15 -> 2 | N47: =AVERAGE(C47:L47) -> 25.160457 | O47: =STDEV(C47:L47) -> 14.022284 | P47: =AVERAGE(C47:G47) -> 12.750593 | Q47: =STDEV(C47:G47) -> 1.929061 | R47: =AVERAGE(H47:L47) -> 37.57032 | S47: =STDEV(H47:L47) -> 7.3261148
A48: =A16 -> P13 | B48: =B16 -> BF | C48: =(43/5)/(C16/60) -> 10.117647 | D48: =(43/5)/(D16/60) -> 19.846154 | E48: =(43/5)/(E16/60) -> 12.9 | F48: =(43/5)/(F16/60) -> 14.742857 | G48: =(43/5)/(G16/60) -> 12.585366 | H48: =(43/5)/(H16/60) -> 36.857143 | I48: =(43/5)/(I16/60) -> 51.6 | J48: =(43/5)/(J16/60) -> 51.6 | ... L48: =(43/5)/(L16/60) -> 57.333333 | M48: =M16 -> 1 | N48: =AVERAGE(C48:L48) -> 32.491583 | O48: =STDEV(C48:L48) -> 20.382866 | P48: =AVERAGE(C48:G48) -> 14.038405 | Q48: =STDEV(C48:G48) -> 3.6402552 | R48: =AVERAGE(H48:L48) -> 50.944762 | S48: =STDEV(H48:L48) -> 8.3807424
A49: =A17 -> P14 | B49: =B17 -> BS | C49: =(43/5)/(C17/60) -> 9.2142857 | D49: =(43/5)/(D17/60) -> 10.32 | E49: =(43/5)/(E17/60) -> 10.530612 | F49: =(43/5)/(F17/60) -> 10.530612 | G49: =(43/5)/(G17/60) -> 14.742857 | H49: =(43/5)/(H17/60) -> 36.857143 | I49: =(43/5)/(I17/60) -> 36.857143 | J49: =(43/5)/(J17/60) -> 46.909091 | ... L49: =(43/5)/(L17/60) -> 57.333333 | M49: =M17 -> 2 | N49: =AVERAGE(C49:L49) -> 28.489508 | O49: =STDEV(C49:L49) -> 19.382284 | P49: =AVERAGE(C49:G49) -> 11.067673 | Q49: =STDEV(C49:G49) -> 2.1259061 | R49: =AVERAGE(H49:L49) -> 45.911342 | S49: =STDEV(H49:L49) -> 9.0522824
A50: =A18 -> P15 | B50: =B18 -> KW | C50: =(43/5)/(C18/60) -> 7.7014925 | D50: =(43/5)/(D18/60) -> 10.530612 | E50: =(43/5)/(E18/60) -> 13.230769 | F50: =(43/5)/(F18/60) -> 10.32 | G50: =(43/5)/(G18/60) -> 12.285714 | H50: =(43/5)/(H18/60) -> 39.692308 | I50: =(43/5)/(I18/60) -> 46.909091 | J50: =(43/5)/(J18/60) -> 57.333333 | ... L50: =(43/5)/(L18/60) -> 51.6 | M50: =M18 -> 1 | N50: =AVERAGE(C50:L50) -> 31.410332 | O50: =STDEV(C50:L50) -> 22.662928 | P50: =AVERAGE(C50:G50) -> 10.813718 | Q50: =STDEV(C50:G50) -> 2.1224257 | R50: =AVERAGE(H50:L50) -> 52.006946 | S50: =STDEV(H50:L50) -> 9.5164443
... A63: =A31 -> P28 | B63: =B31 -> MK | C63: =(43/5)/(C31/60) -> 11.217391 | D63: =(43/5)/(D31/60) -> 11.217391 | E63: =(43/5)/(E31/60) -> 14.742857 | F63: =(43/5)/(F31/60) -> 13.945946 | G63: =(43/5)/(G31/60) -> 11.466667 | H63: =(43/5)/(H31/60) -> 28.666667 | I63: =(43/5)/(I31/60) -> 32.25 | J63: =(43/5)/(J31/60) -> 36.857143 | ... L63: =(43/5)/(L31/60) -> 30.352941 | M63: =M31 -> 2 | N63: =AVERAGE(C63:L63) -> 23.040931 | O63: =STDEV(C63:L63) -> 11.562439 | P63: =AVERAGE(C63:G63) -> 12.51805 | Q63: =STDEV(C63:G63) -> 1.693922 | R63: =AVERAGE(H63:L63) -> 33.563812 | S63: =STDEV(H63:L63) -> 4.5940808
B64: Mean | C64: =AVERAGE(C36:C63) -> 9.7631264 | D64: =AVERAGE(D36:D63) -> 11.171175 | E64: =AVERAGE(E36:E63) -> 12.10317 | F64: =AVERAGE(F36:F63) -> 13.797911 | G64: =AVERAGE(G36:G63) -> 14.566114 | H64: =AVERAGE(H36:H63) -> 30.598006 | I64: =AVERAGE(I36:I63) -> 36.641682 | J64: =AVERAGE(J36:J63) -> 40.692721 | ... L64: =AVERAGE(L36:L63) -> 43.902284 | M64: =M32 -> 0 | N64: =AVERAGE(N36:N63) -> 25.380004 | P64: =AVERAGE(P36:P63) -> 12.280299 | R64: =AVERAGE(R36:R63) -> 38.479708 | U64: Group | V64: Entry speed (wpm)
B65: SD | C65: =STDEV(C36:C63) -> 2.2835837 | D65: =STDEV(D36:D63) -> 3.0568296 | E65: =STDEV(E36:E63) -> 2.8919661 | F65: =STDEV(F36:F63) -> 4.1623794 | G65: =STDEV(G36:G63) -> 4.4320741 | H65: =STDEV(H36:H63) -> 6.6487334 | I65: =STDEV(I36:I63) -> 7.7201383 | J65: =STDEV(J36:J63) -> 8.8011666 | ... L65: =STDEV(L36:L63) -> 8.4181803 | M65: =M33 -> 0 | N65: =STDEV(N36:N63) -> 4.1406744 | P65: =STDEV(P36:P63) -> 2.7104598 | R65: =STDEV(R36:R63) -> 7.2675567 | U65: 1 | V65: {=AVERAGE(IF(group=U65,overall))} -> 25.470771
...

Sheet Questionnaire
B3: Participant | C3: Initials | D3: Sex (M/F) | E3: Age | F3: English as 1st language (Y/N) | G3: Hours of computer use per day? | H3: Do you regularly use a mobile phone? (Y/N) | I3: Do you send text messages on a mobile phone? (Y/N) | J3: If yes, how many messages per day?
B4: ='Data Tables'!A4 -> P1 | C4: JN | D4: M | E4: 31 | F4: Y | G4: 13 | H4: N | I4: N
B5: ='Data Tables'!A5 -> P2 | C5: LM | D5: M | E5: 23 | F5: N | G5: 24 | H5: Y | I5: Y | J5: 5000
B6: ='Data Tables'!A6 -> P3 | C6: SD | D6: F | E6: 42 | F6: N | G6: 8 | H6: Y | I6: Y | J6: 10
B7: ='Data Tables'!A7 -> P4 | C7: FF | D7: F | E7: 35 | F7: N | G7: 8 | H7: Y | I7: Y | J7: 10
B8: ='Data Tables'!A8 -> P5 | C8: GC | D8: M | E8: 27 | F8: Y | G8: 23 | H8: Y | I8: Y | J8: 20
B9: ='Data Tables'!A9 -> P6 | C9: AK | D9: M | E9: 30 | F9: Y | G9: 2 | H9: Y | I9: Y | J9: 10
B10: ='Data Tables'!A10 -> P7 | C10: QM | D10: F | E10: 26 | F10: N | G10: 6 | H10: Y | I10: Y | J10: 30
B11: ='Data Tables'!A11 -> P8 | C11: JW | D11: M | E11: 31 | F11: N | G11: 10 | H11: Y | I11: Y | J11: 30
B12: ='Data Tables'!A12 -> P9 | C12: DK | D12: M | E12: 49 | F12: N | G12: 10 | H12: Y | I12: Y | J12: 20
B13: ='Data Tables'!A13 -> P10 | C13: BR | D13: M | E13: 38 | F13: N | G13: 7 | H13: Y | I13: Y | J13: 1
B14: ='Data Tables'!A14 -> P11 | C14: JS | D14: M | E14: 40 | F14: Y | G14: 8 | H14: Y | I14: Y | J14: 20
B15: ='Data Tables'!A15 -> P12 | C15: JK | D15: F | E15: 33 | F15: Y | G15: 10 | H15: Y | I15: Y | J15: 20
B16: ='Data Tables'!A16 -> P13 | C16: BF | D16: M | E16: 32 | F16: N | G16: 4 | H16: Y | I16: Y | J16: 50
... B29: ='Data Tables'!A29 -> P26 | C29: SH | D29: F | E29: 30 | F29: N | G29: 10 | H29: Y | I29: Y | J29: 50
B30: ='Data Tables'!A30 -> P27 | C30: PB | D30: M | E30: 67 | F30: Y | H30: Y | I30: Y | J30: 15
B31: ='Data Tables'!A31 -> P28 | C31: MK | D31: M | E31: 27 | F31: Y | H31: Y | I31: Y | J31: 15
B32: Responses | D32: =ROW(D32)-ROW(D4)-COUNTBLANK(D4:D31) -> 28 | E32: =ROW(E32)-ROW(E4)-COUNTBLANK(E4:E31) -> 28 | F32: =ROW(F32)-ROW(F4)-COUNTBLANK(F4:F31) -> 28 | G32: =ROW(G32)-ROW(G4)-COUNTBLANK(G4:G31) -> 26 | H32: =ROW(H32)-ROW(H4)-COUNTBLANK(H4:H31) -> 28 | I32: =ROW(I32)-ROW(I4)-COUNTBLANK(I4:I31) -> 28 | J32: =ROW(J32)-ROW(J4)-COUNTBLANK(J4:J31) -> 27
B33: Tally | D33: =COUNTIF(D4:D31,D35) -> 18 | E33: =SUM(E4:E31) -> 912 | F33: =COUNTIF(F4:F31,F35) -> 8 | G33: =SUM(G4:G31) -> 240 | H33: =COUNTIF(H4:H31,H35) -> 27 | I33: =COUNTIF(I4:I31,I35) -> 27 | J33: =SUM(J4:J31) -> 5943
B34: Result | D34: =D33/D32 -> 0.64285714 | E34: =E33/E32 -> 32.571429 | F34: =F33/F32 -> 0.28571429 | G34: =G33/G32 -> 9.2307692 | H34: =H33/H32 -> 0.96428571 | I34: =I33/I32 -> 0.96428571 | J34: =J33/J32 -> 220.11111
B35: Units | D35: M | E35: Years | F35: Y | G35: Hours per day | H35: Y | I35: Y | J35: Messages per day

Sheet Anovas
B2: Using GoStats and AnovaGUI
B29: Data

Sheet Relationships
B1: Performance Results | E1: Questionnaire Responses | N1: Overall Entry Speed (wpm) by First Language | T1: Overll Entry Speed (wpm) by Gender
A2: Participant | B2: Text Entry Speed (wpm) | E2: =Questionnaire!D3 -> Sex (M/F) | F2: =Questionnaire!E3 -> Age | G2: =Questionnaire!F3 -> English as 1st language (Y/N) | H2: =Questionnaire!G3 -> Hours of computer use per day? | I2: =Questionnaire!H3 -> Do you regularly use a mobile phone? (Y/N) | J2: =Questionnaire!I3 -> Do you send text messages on a mobile phone? (Y/N) | K2: =Questionnaire!J3 -> If yes, how many messages per day?
B3: Overall | C3: Opti (A) | D3: Qwerty (B) | N3: English | O3: Non-English | T3: Female | U3: Male
A4: ='Data Tables'!A4 -> P1 | B4: ='Data Tables'!N36 -> 26.535992 | C4: ='Data Tables'!P36 -> 15.259578 | D4: ='Data Tables'!R36 -> 37.812406 | E4: =Questionnaire!D4 -> M | F4: =Questionnaire!E4 -> 31 | G4: =Questionnaire!F4 -> Y | H4: =Questionnaire!G4 -> 13 | I4: =Questionnaire!H4 -> N | J4: =Questionnaire!I4 -> N | K4: =Questionnaire!J4 -> 0 | O4: =IF(G4="N",B4,"") | T4: =IF(E4="F",B4,"")
A5: ='Data Tables'!A5 -> P2 | B5: ='Data Tables'!N37 -> 25.910631 | C5: ='Data Tables'!P37 -> 11.015608 | D5: ='Data Tables'!R37 -> 40.805653 | E5: =Questionnaire!D5 -> M | F5: =Questionnaire!E5 -> 23 | G5: =Questionnaire!F5 -> N | H5: =Questionnaire!G5 -> 24 | I5: =Questionnaire!H5 -> Y | J5: =Questionnaire!I5 -> Y | K5: =Questionnaire!J5 -> 5000 | N5: =IF(G5="Y",B5,"") | O5: =IF(G5="N",B5,"") -> 25.910631 | T5: =IF(E5="F",B5,"") | U5: =IF(E5="M",B5,"") -> 25.910631
A6: ='Data Tables'!A6 -> P3 | B6: ='Data Tables'!N38 -> 19.449106 | C6: ='Data Tables'!P38 -> 12.477441 | D6: ='Data Tables'!R38 -> 26.420771 | E6: =Questionnaire!D6 -> F | F6: =Questionnaire!E6 -> 42 | G6: =Questionnaire!F6 -> N | H6: =Questionnaire!G6 -> 8 | I6: =Questionnaire!H6 -> Y | J6: =Questionnaire!I6 -> Y | K6: =Questionnaire!J6 -> 10 | N6: =IF(G6="Y",B6,"") | O6: =IF(G6="N",B6,"") -> 19.449106 | U6: =IF(E6="M",B6,"")
A7: ='Data Tables'!A7 -> P4 | B7: ='Data Tables'!N39 -> 17.276421 | C7: ='Data Tables'!P39 -> 9.6279287 | D7: ='Data Tables'!R39 -> 24.924912 | E7: =Questionnaire!D7 -> F | F7: =Questionnaire!E7 -> 35 | G7: =Questionnaire!F7 -> N | H7: =Questionnaire!G7 -> 8 | I7: =Questionnaire!H7 -> Y | J7: =Questionnaire!I7 -> Y | K7: =Questionnaire!J7 -> 10 | N7: =IF(G7="Y",B7,"") | O7: =IF(G7="N",B7,"") -> 17.276421 | T7: =IF(E7="F",B7,"") -> 17.276421 | U7: =IF(E7="M",B7,"")
A8: ='Data Tables'!A8 -> P5 | B8: ='Data Tables'!N40 -> 29.355222 | C8: ='Data Tables'!P40 -> 14.593562 | D8: ='Data Tables'!R40 -> 44.116883 | E8: =Questionnaire!D8 -> M | F8: =Questionnaire!E8 -> 27 | G8: =Questionnaire!F8 -> Y | H8: =Questionnaire!G8 -> 23 | I8: =Questionnaire!H8 -> Y | J8: =Questionnaire!I8 -> Y | K8: =Questionnaire!J8 -> 20 | N8: =IF(G8="Y",B8,"") -> 29.355222 | O8: =IF(G8="N",B8,"") | T8: =IF(E8="F",B8,"") | U8: =IF(E8="M",B8,"") -> 29.355222
A9: ='Data Tables'!A9 -> P6 | B9: ='Data Tables'!N41 -> 29.544294 | C9: ='Data Tables'!P41 -> 7.8534362 | D9: ='Data Tables'!R41 -> 51.235152 | E9: =Questionnaire!D9 -> M | F9: =Questionnaire!E9 -> 30 | G9: =Questionnaire!F9 -> Y | H9: =Questionnaire!G9 -> 2 | I9: =Questionnaire!H9 -> Y | J9: =Questionnaire!I9 -> Y | K9: =Questionnaire!J9 -> 10 | N9: =IF(G9="Y",B9,"") -> 29.544294 | O9: =IF(G9="N",B9,"") | T9: =IF(E9="F",B9,"") | U9: =IF(E9="M",B9,"") -> 29.544294
A10: ='Data Tables'!A10 -> P7 | B10: ='Data Tables'!N42 -> 20.369368 | C10: ='Data Tables'!P42 -> 7.7482584 | D10: ='Data Tables'!R42 -> 32.990478 | E10: =Questionnaire!D10 -> F | F10: =Questionnaire!E10 -> 26 | G10: =Questionnaire!F10 -> N | H10: =Questionnaire!G10 -> 6 | I10: =Questionnaire!H10 -> Y | J10: =Questionnaire!I10 -> Y | K10: =Questionnaire!J10 -> 30 | N10: =IF(G10="Y",B10,"") | O10: =IF(G10="N",B10,"") -> 20.369368 | T10: =IF(E10="F",B10,"") -> 20.369368 | U10: =IF(E10="M",B10,"")
A11: ='Data Tables'!A11 -> P8 | B11: ='Data Tables'!N43 -> 21.951642 | C11: ='Data Tables'!P43 -> 8.7565051 | D11: ='Data Tables'!R43 -> 35.146779 | E11: =Questionnaire!D11 -> M | F11: =Questionnaire!E11 -> 31 | G11: =Questionnaire!F11 -> N | H11: =Questionnaire!G11 -> 10 | I11: =Questionnaire!H11 -> Y | J11: =Questionnaire!I11 -> Y | K11: =Questionnaire!J11 -> 30 | N11: =IF(G11="Y",B11,"") | O11: =IF(G11="N",B11,"") -> 21.951642 | T11: =IF(E11="F",B11,"") | U11: =IF(E11="M",B11,"") -> 21.951642
A12: ='Data Tables'!A12 -> P9 | B12: ='Data Tables'!N44 -> 21.99129 | C12: ='Data Tables'!P44 -> 11.461 | D12: ='Data Tables'!R44 -> 32.521579 | E12: =Questionnaire!D12 -> M | F12: =Questionnaire!E12 -> 49 | G12: =Questionnaire!F12 -> N | H12: =Questionnaire!G12 -> 10 | I12: =Questionnaire!H12 -> Y | J12: =Questionnaire!I12 -> Y | K12: =Questionnaire!J12 -> 20 | N12: =IF(G12="Y",B12,"") | O12: =IF(G12="N",B12,"") -> 21.99129 | T12: =IF(E12="F",B12,"") | U12: =IF(E12="M",B12,"") -> 21.99129
A13: ='Data Tables'!A13 -> P10 | B13: ='Data Tables'!N45 -> 23.539715 | C13: ='Data Tables'!P45 -> 14.583715 | D13: ='Data Tables'!R45 -> 32.495714 | E13: =Questionnaire!D13 -> M | F13: =Questionnaire!E13 -> 38 | G13: =Questionnaire!F13 -> N | H13: =Questionnaire!G13 -> 7 | I13: =Questionnaire!H13 -> Y | J13: =Questionnaire!I13 -> Y | K13: =Questionnaire!J13 -> 1 | N13: =IF(G13="Y",B13,"") | O13: =IF(G13="N",B13,"") -> 23.539715 | T13: =IF(E13="F",B13,"") | U13: =IF(E13="M",B13,"") -> 23.539715
A14: ='Data Tables'!A14 -> P11 | B14: ='Data Tables'!N46 -> 33.046892 | C14: ='Data Tables'!P46 -> 14.858632 | D14: ='Data Tables'!R46 -> 51.235152 | E14: =Questionnaire!D14 -> M | F14: =Questionnaire!E14 -> 40 | G14: =Questionnaire!F14 -> Y | H14: =Questionnaire!G14 -> 8 | I14: =Questionnaire!H14 -> Y | J14: =Questionnaire!I14 -> Y | K14: =Questionnaire!J14 -> 20 | N14: =IF(G14="Y",B14,"") -> 33.046892 | O14: =IF(G14="N",B14,"") | T14: =IF(E14="F",B14,"") | U14: =IF(E14="M",B14,"") -> 33.046892
A15: ='Data Tables'!A15 -> P12 | B15: ='Data Tables'!N47 -> 25.160457 | C15: ='Data Tables'!P47 -> 12.750593 | D15: ='Data Tables'!R47 -> 37.57032 | E15: =Questionnaire!D15 -> F | F15: =Questionnaire!E15 -> 33 | G15: =Questionnaire!F15 -> Y | H15: =Questionnaire!G15 -> 10 | I15: =Questionnaire!H15 -> Y | J15: =Questionnaire!I15 -> Y | K15: =Questionnaire!J15 -> 20 | N15: =IF(G15="Y",B15,"") -> 25.160457 | O15: =IF(G15="N",B15,"") | T15: =IF(E15="F",B15,"") -> 25.160457 | U15: =IF(E15="M",B15,"")
A16: ='Data Tables'!A16 -> P13 | B16: ='Data Tables'!N48 -> 32.491583 | C16: ='Data Tables'!P48 -> 14.038405 | D16: ='Data Tables'!R48 -> 50.944762 | E16: =Questionnaire!D16 -> M | F16: =Questionnaire!E16 -> 32 | G16: =Questionnaire!F16 -> N | H16: =Questionnaire!G16 -> 4 | I16: =Questionnaire!H16 -> Y | J16: =Questionnaire!I16 -> Y | K16: =Questionnaire!J16 -> 50 | N16: =IF(G16="Y",B16,"") | O16: =IF(G16="N",B16,"") -> 32.491583 | T16: =IF(E16="F",B16,"") | U16: =IF(E16="M",B16,"") -> 32.491583
A17: ='Data Tables'!A17 -> P14 | B17: ='Data Tables'!N49 -> 28.489508 | C17: ='Data Tables'!P49 -> 11.067673 | D17: ='Data Tables'!R49 -> 45.911342 | E17: =Questionnaire!D17 -> M | F17: =Questionnaire!E17 -> 32 | G17: =Questionnaire!F17 -> N | H17: =Questionnaire!G17 -> 6 | I17: =Questionnaire!H17 -> Y | J17: =Questionnaire!I17 -> Y | K17: =Questionnaire!J17 -> 100 | N17: =IF(G17="Y",B17,"") | O17: =IF(G17="N",B17,"") -> 28.489508 | T17: =IF(E17="F",B17,"") | U17: =IF(E17="M",B17,"") -> 28.489508
A18: ='Data Tables'!A18 -> P15 | B18: ='Data Tables'!N50 -> 31.410332 | C18: ='Data Tables'!P50 -> 10.813718 | D18: ='Data Tables'!R50 -> 52.006946 | E18: =Questionnaire!D18 -> M | F18: =Questionnaire!E18 -> 24 | G18: =Questionnaire!F18 -> Y | H18: =Questionnaire!G18 -> 8 | I18: =Questionnaire!H18 -> Y | J18: =Questionnaire!I18 -> Y | K18: =Questionnaire!J18 -> 200 | N18: =IF(G18="Y",B18,"") -> 31.410332 | O18: =IF(G18="N",B18,"") | T18: =IF(E18="F",B18,"") | U18: =IF(E18="M",B18,"") -> 31.410332
... A31: ='Data Tables'!A31 -> P28 | B31: ='Data Tables'!N63 -> 23.040931 | C31: ='Data Tables'!P63 -> 12.51805 | D31: ='Data Tables'!R63 -> 33.563812 | E31: =Questionnaire!D31 -> M | F31: =Questionnaire!E31 -> 27 | G31: =Questionnaire!F31 -> Y | H31: =Questionnaire!G31 -> 0 | I31: =Questionnaire!H31 -> Y | J31: =Questionnaire!I31 -> Y | K31: =Questionnaire!J31 -> 15 | N31: =IF(G31="Y",B31,"") -> 23.040931 | O31: =IF(G31="N",B31,"") | T31: =IF(E31="F",B31,"") | U31: =IF(E31="M",B31,"") -> 23.040931
M34: Entry Speed (wpm) | N34: English | O34: Non-English | S34: Entry Speed (wpm) | T34: Female | U34: Male
M35: Mean | N35: =SUMIF(G4:G31,"=Y",B4:B31)/COUNTIF(G4:G31,"=Y") -> 27.069251 | O35: =SUMIF(G4:G31,"=N",B4:B31)/COUNTIF(G4:G31,"=N") -> 24.704305 | S35: Mean | T35: =AVERAGE(T4:T31) -> 24.228118 | U35: =AVERAGE(U4:U31) -> 26.270703
M36: SE | N36: =STDEV(N4:N31)/SQRT(COUNTIF(G4:G31,"=Y")) -> 1.825057 | O36: =STDEV(O4:O31)/SQRT(COUNTIF(G4:G31,"=Y")) -> 1.3346475 | S36: SE | T36: =STDEV(T4:T31)/SQRT(COUNT(T4:T31)) -> 1.2520052 | U36: =STDEV(U4:U31)/SQRT(COUNT(U4:U31)) -> 1.0292032
I38: Correlation
I39: r =
I40: =CORREL(H4:H31,B4:B31) -> 0.16462283
I56: Correlation
I57: r =
I58: =CORREL(F4:F31,B4:B31) -> -0.39613342

Sheet Keyboards

Sheet CHI99
A1: A longitudinal study comparing the Opti and Qwerty software keyboards is presented in a CHI99 paper
A3: URL: http://www.yorku.ca/mack/CHI99a.html
A5: Main Result:
