Workbook
Name group: 'Data Tables'!$M$40:$M$71
Name overall: 'Data Tables'!$N$40:$N$71

Sheet Data Tables
A1: Entry Time (seconds)
A2: Participant | B2: Initials | C2: Opti (A) | H2: QWERTY (B) | M2: Group
C3: 1 | D3: 2 | E3: 3 | F3: 4 | G3: 5 | H3: 1 | I3: 2 | J3: 3 | K3: 4 | L3: 5
A4: P1 | B4: IA | C4: 65 | D4: 62 | E4: 51 | F4: 62 | G4: 61 | H4: 23 | I4: 16 | J4: 15 | K4: 14 | L4: 11 | M4: 1 | N4: 1 or 2
A5: P2 | B5: KM | C5: 40 | D5: 34 | E5: 34 | F5: 32 | G5: 28 | H5: 16 | I5: 14 | J5: 14 | K5: 13 | L5: 13 | M5: 2
A6: P3 | B6: EE | C6: 74 | D6: 70 | E6: 56 | F6: 48 | G6: 48 | H6: 28 | I6: 19 | J6: 19 | K6: 16 | L6: 20 | M6: 1
A7: P4 | B7: EM | C7: 65 | D7: 60 | E7: 63 | F7: 42 | G7: 52 | H7: 19 | I7: 17 | J7: 14 | K7: 13 | L7: 14 | M7: 2
A8: P5 | B8: JL | C8: 60 | D8: 57 | E8: 52 | F8: 51 | G8: 32 | H8: 23 | I8: 16 | J8: 13 | K8: 14 | L8: 13 | M8: 1
A9: P6 | B9: HK | C9: 47 | D9: 40 | E9: 37 | F9: 34 | G9: 33 | H9: 18 | I9: 13 | J9: 11 | K9: 10 | L9: 10 | M9: 2
A10: P7 | B10: EC | C10: 39 | D10: 33 | E10: 33 | F10: 29 | G10: 28 | H10: 11 | I10: 11 | J10: 10 | K10: 11 | L10: 9 | M10: 1
A11: P8 | B11: KO | C11: 58 | D11: 60 | E11: 60 | F11: 57 | G11: 51 | H11: 19 | I11: 13 | J11: 11 | K11: 13 | L11: 11 | M11: 2
A12: P9 | B12: NE | C12: 52 | D12: 34 | E12: 28 | F12: 28 | G12: 27 | H12: 15 | I12: 13 | J12: 14 | K12: 14 | L12: 13 | M12: 1
A13: P10 | B13: HP | C13: 36 | D13: 40 | E13: 31 | F13: 35 | G13: 40 | H13: 11 | I13: 11 | J13: 12 | K13: 11 | L13: 11 | M13: 2
A14: P11 | B14: SJG | C14: 58 | D14: 49 | E14: 51 | F14: 49 | G14: 48 | H14: 26 | I14: 21 | J14: 16 | K14: 14 | L14: 13 | M14: 1
A15: P12 | B15: KM2 | C15: 50 | D15: 28 | E15: 32 | F15: 31 | G15: 27 | H15: 20 | I15: 17 | J15: 15 | K15: 15 | L15: 14 | M15: 2
A16: P13 | B16: TR | C16: 49 | D16: 46 | E16: 45 | F16: 34 | G16: 40 | H16: 16 | I16: 12 | J16: 11 | K16: 12 | L16: 11 | M16: 1
... A35: P32 | B35: NB | C35: 68 | D35: 69 | E35: 53 | F35: 43 | G35: 47 | H35: 17 | I35: 15 | J35: 13 | K35: 14 | L35: 12 | M35: 2
A37: Entry Speed (wpm)
A38: Participant | B38: Initials | C38: =C2 -> Opti (A) | H38: =H2 -> QWERTY (B) | M38: Group | N38: Overall | P38: =C38 -> Opti (A) | R38: =H38 -> QWERTY (B)
C39: 1 | D39: 2 | E39: 3 | F39: 4 | G39: 5 | H39: 1 | I39: 2 | J39: 3 | K39: 4 | L39: 5 | N39: Mean | O39: SD | P39: Mean | Q39: SD | R39: Mean | S39: SD
A40: =A4 -> P1 | B40: =B4 -> IA | C40: =(43/5)/(C4/60) -> 7.9384615 | D40: =(43/5)/(D4/60) -> 8.3225806 | E40: =(43/5)/(E4/60) -> 10.117647 | F40: =(43/5)/(F4/60) -> 8.3225806 | G40: =(43/5)/(G4/60) -> 8.4590164 | H40: =(43/5)/(H4/60) -> 22.434783 | I40: =(43/5)/(I4/60) -> 32.25 | J40: =(43/5)/(J4/60) -> 34.4 | ... L40: =(43/5)/(L4/60) -> 46.909091 | M40: =M4 -> 1 | N40: =AVERAGE(C40:L40) -> 21.60113 | O40: =STDEV(C40:L40) -> 14.888613 | P40: =AVERAGE(C40:G40) -> 8.6320573 | Q40: =STDEV(C40:G40) -> 0.85286968 | R40: =AVERAGE(H40:L40) -> 34.570203 | S40: =STDEV(H40:L40) -> 8.8056656
A41: =A5 -> P2 | B41: =B5 -> KM | C41: =(43/5)/(C5/60) -> 12.9 | D41: =(43/5)/(D5/60) -> 15.176471 | E41: =(43/5)/(E5/60) -> 15.176471 | F41: =(43/5)/(F5/60) -> 16.125 | G41: =(43/5)/(G5/60) -> 18.428571 | H41: =(43/5)/(H5/60) -> 32.25 | I41: =(43/5)/(I5/60) -> 36.857143 | J41: =(43/5)/(J5/60) -> 36.857143 | ... L41: =(43/5)/(L5/60) -> 39.692308 | M41: =M5 -> 2 | N41: =AVERAGE(C41:L41) -> 26.315541 | O41: =STDEV(C41:L41) -> 11.592767 | P41: =AVERAGE(C41:G41) -> 15.561303 | Q41: =STDEV(C41:G41) -> 1.9948501 | R41: =AVERAGE(H41:L41) -> 37.06978 | S41: =STDEV(H41:L41) -> 3.0445037
A42: =A6 -> P3 | B42: =B6 -> EE | C42: =(43/5)/(C6/60) -> 6.972973 | D42: =(43/5)/(D6/60) -> 7.3714286 | E42: =(43/5)/(E6/60) -> 9.2142857 | F42: =(43/5)/(F6/60) -> 10.75 | G42: =(43/5)/(G6/60) -> 10.75 | H42: =(43/5)/(H6/60) -> 18.428571 | I42: =(43/5)/(I6/60) -> 27.157895 | J42: =(43/5)/(J6/60) -> 27.157895 | ... L42: =(43/5)/(L6/60) -> 25.8 | M42: =M6 -> 1 | N42: =AVERAGE(C42:L42) -> 17.585305 | O42: =STDEV(C42:L42) -> 9.7009516 | P42: =AVERAGE(C42:G42) -> 9.0117375 | Q42: =STDEV(C42:G42) -> 1.7980067 | R42: =AVERAGE(H42:L42) -> 26.158872 | S42: =STDEV(H42:L42) -> 4.9745419
A43: =A7 -> P4 | B43: =B7 -> EM | C43: =(43/5)/(C7/60) -> 7.9384615 | D43: =(43/5)/(D7/60) -> 8.6 | E43: =(43/5)/(E7/60) -> 8.1904762 | F43: =(43/5)/(F7/60) -> 12.285714 | G43: =(43/5)/(G7/60) -> 9.9230769 | H43: =(43/5)/(H7/60) -> 27.157895 | I43: =(43/5)/(I7/60) -> 30.352941 | J43: =(43/5)/(J7/60) -> 36.857143 | ... L43: =(43/5)/(L7/60) -> 36.857143 | M43: =M7 -> 2 | N43: =AVERAGE(C43:L43) -> 21.785516 | O43: =STDEV(C43:L43) -> 13.575353 | P43: =AVERAGE(C43:G43) -> 9.3875458 | Q43: =STDEV(C43:G43) -> 1.7915931 | R43: =AVERAGE(H43:L43) -> 34.183486 | S43: =STDEV(H43:L43) -> 5.2123892
A44: =A8 -> P5 | B44: =B8 -> JL | C44: =(43/5)/(C8/60) -> 8.6 | D44: =(43/5)/(D8/60) -> 9.0526316 | E44: =(43/5)/(E8/60) -> 9.9230769 | F44: =(43/5)/(F8/60) -> 10.117647 | G44: =(43/5)/(G8/60) -> 16.125 | H44: =(43/5)/(H8/60) -> 22.434783 | I44: =(43/5)/(I8/60) -> 32.25 | J44: =(43/5)/(J8/60) -> 39.692308 | ... L44: =(43/5)/(L8/60) -> 39.692308 | M44: =M8 -> 1 | N44: =AVERAGE(C44:L44) -> 22.47449 | O44: =STDEV(C44:L44) -> 13.410289 | P44: =AVERAGE(C44:G44) -> 10.763671 | Q44: =STDEV(C44:G44) -> 3.0609199 | R44: =AVERAGE(H44:L44) -> 34.185308 | S44: =STDEV(H44:L44) -> 7.2390099
A45: =A9 -> P6 | B45: =B9 -> HK | C45: =(43/5)/(C9/60) -> 10.978723 | D45: =(43/5)/(D9/60) -> 12.9 | E45: =(43/5)/(E9/60) -> 13.945946 | F45: =(43/5)/(F9/60) -> 15.176471 | G45: =(43/5)/(G9/60) -> 15.636364 | H45: =(43/5)/(H9/60) -> 28.666667 | I45: =(43/5)/(I9/60) -> 39.692308 | J45: =(43/5)/(J9/60) -> 46.909091 | ... L45: =(43/5)/(L9/60) -> 51.6 | M45: =M9 -> 2 | N45: =AVERAGE(C45:L45) -> 28.710557 | O45: =STDEV(C45:L45) -> 17.114425 | P45: =AVERAGE(C45:G45) -> 13.727501 | Q45: =STDEV(C45:G45) -> 1.8729338 | R45: =AVERAGE(H45:L45) -> 43.693613 | S45: =STDEV(H45:L45) -> 9.7105712
A46: =A10 -> P7 | B46: =B10 -> EC | C46: =(43/5)/(C10/60) -> 13.230769 | D46: =(43/5)/(D10/60) -> 15.636364 | E46: =(43/5)/(E10/60) -> 15.636364 | F46: =(43/5)/(F10/60) -> 17.793103 | G46: =(43/5)/(G10/60) -> 18.428571 | H46: =(43/5)/(H10/60) -> 46.909091 | I46: =(43/5)/(I10/60) -> 46.909091 | J46: =(43/5)/(J10/60) -> 51.6 | ... L46: =(43/5)/(L10/60) -> 57.333333 | M46: =M10 -> 1 | N46: =AVERAGE(C46:L46) -> 33.038578 | O46: =STDEV(C46:L46) -> 18.122531 | P46: =AVERAGE(C46:G46) -> 16.145034 | Q46: =STDEV(C46:G46) -> 2.0579788 | R46: =AVERAGE(H46:L46) -> 49.932121 | S46: =STDEV(H46:L46) -> 4.6091186
A47: =A11 -> P8 | B47: =B11 -> KO | C47: =(43/5)/(C11/60) -> 8.8965517 | D47: =(43/5)/(D11/60) -> 8.6 | E47: =(43/5)/(E11/60) -> 8.6 | F47: =(43/5)/(F11/60) -> 9.0526316 | G47: =(43/5)/(G11/60) -> 10.117647 | H47: =(43/5)/(H11/60) -> 27.157895 | I47: =(43/5)/(I11/60) -> 39.692308 | J47: =(43/5)/(J11/60) -> 46.909091 | ... L47: =(43/5)/(L11/60) -> 46.909091 | M47: =M11 -> 2 | N47: =AVERAGE(C47:L47) -> 24.562752 | O47: =STDEV(C47:L47) -> 17.216055 | P47: =AVERAGE(C47:G47) -> 9.0533661 | Q47: =STDEV(C47:G47) -> 0.62617228 | R47: =AVERAGE(H47:L47) -> 40.072138 | S47: =STDEV(H47:L47) -> 8.0708437
A48: =A12 -> P9 | B48: =B12 -> NE | C48: =(43/5)/(C12/60) -> 9.9230769 | D48: =(43/5)/(D12/60) -> 15.176471 | E48: =(43/5)/(E12/60) -> 18.428571 | F48: =(43/5)/(F12/60) -> 18.428571 | G48: =(43/5)/(G12/60) -> 19.111111 | H48: =(43/5)/(H12/60) -> 34.4 | I48: =(43/5)/(I12/60) -> 39.692308 | J48: =(43/5)/(J12/60) -> 36.857143 | ... L48: =(43/5)/(L12/60) -> 39.692308 | M48: =M12 -> 1 | N48: =AVERAGE(C48:L48) -> 26.85667 | O48: =STDEV(C48:L48) -> 11.602973 | P48: =AVERAGE(C48:G48) -> 16.21356 | Q48: =STDEV(C48:G48) -> 3.8358208 | R48: =AVERAGE(H48:L48) -> 37.49978 | S48: =STDEV(H48:L48) -> 2.2388031
A49: =A13 -> P10 | B49: =B13 -> HP | C49: =(43/5)/(C13/60) -> 14.333333 | D49: =(43/5)/(D13/60) -> 12.9 | E49: =(43/5)/(E13/60) -> 16.645161 | F49: =(43/5)/(F13/60) -> 14.742857 | G49: =(43/5)/(G13/60) -> 12.9 | H49: =(43/5)/(H13/60) -> 46.909091 | I49: =(43/5)/(I13/60) -> 46.909091 | J49: =(43/5)/(J13/60) -> 43 | ... L49: =(43/5)/(L13/60) -> 46.909091 | M49: =M13 -> 2 | N49: =AVERAGE(C49:L49) -> 30.215772 | O49: =STDEV(C49:L49) -> 16.844387 | P49: =AVERAGE(C49:G49) -> 14.30427 | Q49: =STDEV(C49:G49) -> 1.5505583 | R49: =AVERAGE(H49:L49) -> 46.127273 | S49: =STDEV(H49:L49) -> 1.7481986
A50: =A14 -> P11 | B50: =B14 -> SJG | C50: =(43/5)/(C14/60) -> 8.8965517 | D50: =(43/5)/(D14/60) -> 10.530612 | E50: =(43/5)/(E14/60) -> 10.117647 | F50: =(43/5)/(F14/60) -> 10.530612 | G50: =(43/5)/(G14/60) -> 10.75 | H50: =(43/5)/(H14/60) -> 19.846154 | I50: =(43/5)/(I14/60) -> 24.571429 | J50: =(43/5)/(J14/60) -> 32.25 | ... L50: =(43/5)/(L14/60) -> 39.692308 | M50: =M14 -> 1 | N50: =AVERAGE(C50:L50) -> 20.404246 | O50: =STDEV(C50:L50) -> 12.143351 | P50: =AVERAGE(C50:G50) -> 10.165085 | Q50: =STDEV(C50:G50) -> 0.7451129 | R50: =AVERAGE(H50:L50) -> 30.643407 | S50: =STDEV(H50:L50) -> 8.3145032
A51: =A15 -> P12 | B51: =B15 -> KM2 | C51: =(43/5)/(C15/60) -> 10.32 | D51: =(43/5)/(D15/60) -> 18.428571 | E51: =(43/5)/(E15/60) -> 16.125 | F51: =(43/5)/(F15/60) -> 16.645161 | G51: =(43/5)/(G15/60) -> 19.111111 | H51: =(43/5)/(H15/60) -> 25.8 | I51: =(43/5)/(I15/60) -> 30.352941 | J51: =(43/5)/(J15/60) -> 34.4 | ... L51: =(43/5)/(L15/60) -> 36.857143 | M51: =M15 -> 2 | N51: =AVERAGE(C51:L51) -> 24.243993 | O51: =STDEV(C51:L51) -> 9.326333 | P51: =AVERAGE(C51:G51) -> 16.125969 | Q51: =STDEV(C51:G51) -> 3.4710189 | R51: =AVERAGE(H51:L51) -> 32.362017 | S51: =STDEV(H51:L51) -> 4.3476821
... A71: =A35 -> P32 | B71: =B35 -> NB | C71: =(43/5)/(C35/60) -> 7.5882353 | D71: =(43/5)/(D35/60) -> 7.4782609 | E71: =(43/5)/(E35/60) -> 9.7358491 | F71: =(43/5)/(F35/60) -> 12 | G71: =(43/5)/(G35/60) -> 10.978723 | H71: =(43/5)/(H35/60) -> 30.352941 | I71: =(43/5)/(I35/60) -> 34.4 | J71: =(43/5)/(J35/60) -> 39.692308 | ... L71: =(43/5)/(L35/60) -> 43 | M71: =M35 -> 2 | N71: =AVERAGE(C71:L71) -> 23.208346 | O71: =STDEV(C71:L71) -> 14.810435 | P71: =AVERAGE(C71:G71) -> 9.5562137 | Q71: =STDEV(C71:G71) -> 2.0136237 | R71: =AVERAGE(H71:L71) -> 36.860478 | S71: =STDEV(H71:L71) -> 4.850644
B72: Mean | C72: =AVERAGE(C40:C71) -> 9.5589456 | D72: =AVERAGE(D40:D71) -> 10.931186 | E72: =AVERAGE(E40:E71) -> 11.654187 | F72: =AVERAGE(F40:F71) -> 12.70959 | G72: =AVERAGE(G40:G71) -> 12.872504 | H72: =AVERAGE(H40:H71) -> 30.16221 | I72: =AVERAGE(I40:I71) -> 35.062988 | J72: =AVERAGE(J40:J71) -> 37.341392 | ... L72: =AVERAGE(L40:L71) -> 41.309864 | M72: =M36 -> 0 | N72: =AVERAGE(N40:N71) -> 23.99757 | P72: =AVERAGE(P40:P71) -> 11.545282 | R72: =AVERAGE(R40:R71) -> 36.449857 | U72: Group | V72: Entry speed (wpm)
B73: SD | C73: =STDEV(C40:C71) -> 2.4987337 | D73: =STDEV(D40:D71) -> 3.2511289 | E73: =STDEV(E40:E71) -> 3.4344036 | F73: =STDEV(F40:F71) -> 3.4668762 | G73: =STDEV(G40:G71) -> 3.8334987 | H73: =STDEV(H40:H71) -> 7.1804328 | I73: =STDEV(I40:I71) -> 6.9994656 | J73: =STDEV(J40:J71) -> 6.5267034 | ... L73: =STDEV(L40:L71) -> 8.2271999 | M73: =M37 -> 0 | N73: =STDEV(N40:N71) -> 4.1127573 | P73: =STDEV(P40:P71) -> 3.0997404 | R73: =STDEV(R40:R71) -> 6.3740628 | U73: 1 | V73: {=AVERAGE(IF(group=U73,overall))} -> 23.110993
F74: Min | G74: =MIN(C40:G71) -> 5.7333333 | K74: Min | L74: =MIN(H40:L71) -> 18.428571 | M74: Min | N74: =MIN(N40:N71) -> 16.504353 | P74: =MIN(P40:P71) -> 7.2266745 | R74: =MIN(R40:R71) -> 25.356774 | U74: 2 | V74: {=AVERAGE(IF(group=U74,overall))} -> 24.884147
F75: Max | G75: =MAX(C40:G71) -> 20.64 | K75: Max | L75: =MAX(H40:L71) -> 64.5 | M75: Max | N75: =MAX(N40:N71) -> 33.038578 | P75: =MAX(P40:P71) -> 17.599221 | R75: =MAX(R40:R71) -> 52.006946
C77: Method | D77: Trial
D78: 1 | E78: 2 | F78: 3 | G78: 4 | H78: 5 | I78: Mean | J78: SD
C79: =C38 -> Opti (A) | D79: =C72 -> 9.5589456 | E79: =D72 -> 10.931186 | F79: =E72 -> 11.654187 | G79: =F72 -> 12.70959 | H79: =G72 -> 12.872504 | I79: =AVERAGE(D79:H79) -> 11.545282 | J79: =STDEV(D79:H79) -> 1.3648845
C80: =H38 -> QWERTY (B) | D80: =H72 -> 30.16221 | E80: =I72 -> 35.062988 | F80: =J72 -> 37.341392 | G80: =K72 -> 38.372831 | H80: =L72 -> 41.309864 | I80: =AVERAGE(D80:H80) -> 36.449857 | J80: =STDEV(D80:H80) -> 4.1704388 | K80: =(I80-I79)/I79 -> 2.1571213 | L80: faster
C81: Improvement | E81: =(E79-$D$79)/$D$79 -> 0.14355557 | F81: =(F79-$D$79)/$D$79 -> 0.2191917 | G81: =(G79-$D$79)/$D$79 -> 0.32960163 | H81: =(H79-$D$79)/$D$79 -> 0.34664481
C82: Improvement | E82: =(E80-$D$80)/$D$80 -> 0.16248073 | F82: =(F80-$D$80)/$D$80 -> 0.23801909 | G82: =(G80-$D$80)/$D$80 -> 0.27221549 | H82: =(H80-$D$80)/$D$80 -> 0.36959008
G102: Opti (A) model (y=ax^b)
G103: a = | H103: {=EXP(INTERCEPT(LN(D80:H80),LN(D78:H78)))} -> 30.370525
G104: b = | H104: {=SLOPE(LN(D80:H80),LN(D78:H78))} -> 0.18484138
G105: Qwerty (B) model (y=ax^b)
G106: a = | H106: {=EXP(INTERCEPT(LN(D79:H79),LN(D78:H78)))} -> 9.5589974
G107: b = | H107: {=SLOPE(LN(D79:H79),LN(D78:H78))} -> 0.19108104
G109: Models crossover at
G110: trial = | H110: =EXP(-LN(H103/H106)/(H104-H107)) -> 2.881181e+80

Sheet Questionnaire
B3: Participant | C3: Initials | D3: Sex (M/F) | E3: Age | F3: English as 1st language (Y/N) | G3: Hours of computer use per day? | H3: Do you regularly use a mobile phone? (Y/N) | I3: Do you send text messages on a mobile phone? (Y/N) | J3: If yes, how many messages per day?
B4: ='Data Tables'!A4 -> P1 | C4: ='Data Tables'!B4 -> IA | D4: M | E4: 36 | F4: Y | G4: 10 | H4: Y | I4: Y | J4: 75
B5: ='Data Tables'!A5 -> P2 | C5: ='Data Tables'!B5 -> KM | D5: M | E5: 26 | F5: N | G5: 10 | H5: Y | I5: Y | J5: 100
B6: ='Data Tables'!A6 -> P3 | C6: ='Data Tables'!B6 -> EE | D6: F | F6: N | G6: 8 | H6: Y | I6: Y | J6: 1
B7: ='Data Tables'!A7 -> P4 | C7: ='Data Tables'!B7 -> EM | D7: F | F7: Y | G7: 7 | H7: Y | I7: Y | J7: 20
B8: ='Data Tables'!A8 -> P5 | C8: ='Data Tables'!B8 -> JL | D8: M | E8: 28 | F8: N | G8: 8 | H8: Y | I8: Y | J8: 50
B9: ='Data Tables'!A9 -> P6 | C9: ='Data Tables'!B9 -> HK | D9: F | E9: 39 | F9: N | G9: 14 | H9: Y | I9: Y | J9: 20
B10: ='Data Tables'!A10 -> P7 | C10: ='Data Tables'!B10 -> EC | D10: F | E10: 29 | F10: Y | G10: 11 | H10: Y | I10: Y | J10: 50
B11: ='Data Tables'!A11 -> P8 | C11: ='Data Tables'!B11 -> KO | D11: M | E11: 38 | F11: N | G11: 10 | H11: Y | I11: Y | J11: 30
B12: ='Data Tables'!A12 -> P9 | C12: ='Data Tables'!B12 -> NE | E12: 39 | F12: Y | G12: 8 | H12: Y | I12: Y | J12: 10
B13: ='Data Tables'!A13 -> P10 | C13: ='Data Tables'!B13 -> HP | D13: F | E13: 27 | F13: Y | G13: 8 | H13: Y | I13: Y | J13: 100
B14: ='Data Tables'!A14 -> P11 | C14: ='Data Tables'!B14 -> SJG | D14: M | E14: 27 | F14: Y | G14: 7.5 | H14: Y | I14: Y | J14: 10
B15: ='Data Tables'!A15 -> P12 | C15: ='Data Tables'!B15 -> KM2 | D15: F | E15: 38 | F15: Y | G15: 3 | H15: Y | I15: Y | J15: 35
B16: ='Data Tables'!A16 -> P13 | C16: ='Data Tables'!B16 -> TR | D16: M | E16: 30 | F16: Y | G16: 8 | H16: Y | I16: Y | J16: 30
B17: ='Data Tables'!A17 -> P14 | C17: ='Data Tables'!B17 -> TG | D17: M | E17: 27 | F17: Y | G17: 10 | H17: Y | I17: Y | J17: 50
B18: ='Data Tables'!A18 -> P15 | C18: ='Data Tables'!B18 -> CR | D18: M | E18: 35 | F18: Y | G18: 16 | H18: Y | I18: Y | J18: 40
B19: ='Data Tables'!A19 -> P16 | C19: ='Data Tables'!B19 -> ML | D19: F | E19: 23 | F19: N | G19: 12 | H19: Y | I19: Y | J19: 50
B20: ='Data Tables'!A20 -> P17 | C20: ='Data Tables'!B20 -> KT | D20: F | E20: 27 | F20: N | G20: 11 | H20: Y | I20: Y | J20: 10
B21: ='Data Tables'!A21 -> P18 | C21: ='Data Tables'!B21 -> SBN | D21: F | E21: 40 | F21: N | G21: 13 | H21: Y | I21: Y | J21: 30
B22: ='Data Tables'!A22 -> P19 | C22: ='Data Tables'!B22 -> YT | D22: F | E22: 35 | F22: N | G22: 8 | H22: Y | I22: Y | J22: 35
B23: ='Data Tables'!A23 -> P20 | C23: ='Data Tables'!B23 -> JC | D23: F | E23: 43 | F23: Y | G23: 10 | H23: Y | I23: Y | J23: 18
B24: ='Data Tables'!A24 -> P21 | C24: ='Data Tables'!B24 -> AB | D24: F | E24: 41 | F24: N | G24: 12 | H24: Y | I24: Y | J24: 10
... B26: ='Data Tables'!A26 -> P23 | C26: ='Data Tables'!B26 -> DK | D26: F | E26: 25 | F26: N | G26: 9 | H26: Y | I26: Y | J26: 130
B27: ='Data Tables'!A27 -> P24 | C27: ='Data Tables'!B27 -> XQ | D27: F | F27: N | G27: 10 | H27: Y | I27: Y | J27: 120
B28: ='Data Tables'!A28 -> P25 | C28: ='Data Tables'!B28 -> H | D28: F | E28: 24 | F28: N | G28: 2.5 | H28: Y | I28: Y | J28: 20
B29: ='Data Tables'!A29 -> P26 | C29: ='Data Tables'!B29 -> LL | D29: F | E29: 29 | F29: N | G29: 4 | H29: Y | I29: Y | J29: 60
B30: ='Data Tables'!A30 -> P27 | C30: ='Data Tables'!B30 -> BH | D30: M | E30: 34 | F30: N | G30: 5 | H30: Y | I30: Y | J30: 100
B31: ='Data Tables'!A31 -> P28 | C31: ='Data Tables'!B31 -> STM | D31: M | E31: 32 | F31: N | G31: 6 | H31: Y | I31: Y | J31: 80
B32: ='Data Tables'!A32 -> P29 | C32: ='Data Tables'!B32 -> SS | D32: F | E32: 29 | F32: N | G32: 9 | H32: Y | I32: Y | J32: 100
B33: ='Data Tables'!A33 -> P30 | C33: ='Data Tables'!B33 -> RGS | D33: M | E33: 27 | F33: Y | G33: 9 | H33: Y | I33: Y | J33: 70
B34: ='Data Tables'!A34 -> P31 | C34: ='Data Tables'!B34 -> AI | D34: M | E34: 26 | F34: N | G34: 10 | H34: Y | I34: Y | J34: 30
B35: ='Data Tables'!A35 -> P32 | C35: ='Data Tables'!B35 -> NB | D35: F | E35: 45 | F35: N | G35: 10 | H35: Y | I35: Y | J35: 50
B36: Responses | D36: =ROW(D36)-ROW(D4)-COUNTBLANK(D4:D35) -> 31 | E36: =ROW(E36)-ROW(E4)-COUNTBLANK(E4:E35) -> 29 | F36: =ROW(F36)-ROW(F4)-COUNTBLANK(F4:F35) -> 32 | G36: =ROW(G36)-ROW(G4)-COUNTBLANK(G4:G35) -> 32 | H36: =ROW(H36)-ROW(H4)-COUNTBLANK(H4:H35) -> 32 | I36: =ROW(I36)-ROW(I4)-COUNTBLANK(I4:I35) -> 32 | J36: =ROW(J36)-ROW(J4)-COUNTBLANK(J4:J35) -> 32
B37: Tally | D37: =COUNTIF(D4:D35,D39) -> 12 | E37: =SUM(E4:E35) -> 953 | F37: =COUNTIF(F4:F35,F39) -> 12 | G37: =SUM(G4:G35) -> 287 | H37: =COUNTIF(H4:H35,H39) -> 32 | I37: =COUNTIF(I4:I35,I39) -> 32 | J37: =SUM(J4:J35) -> 1546
B38: Result | D38: =D37/D36 -> 0.38709677 | E38: =E37/E36 -> 32.862069 | F38: =F37/F36 -> 0.375 | G38: =G37/G36 -> 8.96875 | H38: =H37/H36 -> 1 | I38: =I37/I36 -> 1 | J38: =J37/J36 -> 48.3125
B39: Units | D39: M | E39: Years | F39: Y | G39: Hours per day | H39: Y | I39: Y | J39: Messages per day

Sheet Relationships
B1: Performance Results | E1: Questionnaire Responses | N1: Overall Entry Speed (wpm) by First Language | T1: Overll Entry Speed (wpm) by Gender
A2: Participant | B2: Text Entry Speed (wpm) | E2: =Questionnaire!D3 -> Sex (M/F) | F2: =Questionnaire!E3 -> Age | G2: =Questionnaire!F3 -> English as 1st language (Y/N) | H2: =Questionnaire!G3 -> Hours of computer use per day? | I2: =Questionnaire!H3 -> Do you regularly use a mobile phone? (Y/N) | J2: =Questionnaire!I3 -> Do you send text messages on a mobile phone? (Y/N) | K2: =Questionnaire!J3 -> If yes, how many messages per day?
B3: Overall | C3: Opti (A) | D3: Qwerty (B) | N3: English | O3: Non-English | T3: Female | U3: Male
A4: ='Data Tables'!A4 -> P1 | B4: ='Data Tables'!N40 -> 21.60113 | C4: ='Data Tables'!P40 -> 8.6320573 | D4: ='Data Tables'!R40 -> 34.570203 | E4: =Questionnaire!D4 -> M | F4: =Questionnaire!E4 -> 36 | G4: =Questionnaire!F4 -> Y | H4: =Questionnaire!G4 -> 10 | I4: =Questionnaire!H4 -> Y | J4: =Questionnaire!I4 -> Y | K4: =Questionnaire!J4 -> 75 | N4: =IF($G4="Y",$B4,"") -> 21.60113 | O4: =IF($G4="N",$B4,"") | T4: =IF($E4="F",$B4,"") | U4: =IF($E4="M",$B4,"") -> 21.60113
A5: ='Data Tables'!A5 -> P2 | B5: ='Data Tables'!N41 -> 26.315541 | C5: ='Data Tables'!P41 -> 15.561303 | D5: ='Data Tables'!R41 -> 37.06978 | E5: =Questionnaire!D5 -> M | F5: =Questionnaire!E5 -> 26 | G5: =Questionnaire!F5 -> N | H5: =Questionnaire!G5 -> 10 | I5: =Questionnaire!H5 -> Y | J5: =Questionnaire!I5 -> Y | K5: =Questionnaire!J5 -> 100 | N5: =IF($G5="Y",$B5,"") | O5: =IF($G5="N",$B5,"") -> 26.315541 | T5: =IF($E5="F",$B5,"") | U5: =IF($E5="M",$B5,"") -> 26.315541
A6: ='Data Tables'!A6 -> P3 | B6: ='Data Tables'!N42 -> 17.585305 | C6: ='Data Tables'!P42 -> 9.0117375 | D6: ='Data Tables'!R42 -> 26.158872 | E6: =Questionnaire!D6 -> F | F6: =Questionnaire!E6 -> 0 | G6: =Questionnaire!F6 -> N | H6: =Questionnaire!G6 -> 8 | I6: =Questionnaire!H6 -> Y | J6: =Questionnaire!I6 -> Y | K6: =Questionnaire!J6 -> 1 | N6: =IF($G6="Y",$B6,"") | O6: =IF($G6="N",$B6,"") -> 17.585305 | T6: =IF($E6="F",$B6,"") -> 17.585305 | U6: =IF($E6="M",$B6,"")
A7: ='Data Tables'!A7 -> P4 | B7: ='Data Tables'!N43 -> 21.785516 | C7: ='Data Tables'!P43 -> 9.3875458 | D7: ='Data Tables'!R43 -> 34.183486 | E7: =Questionnaire!D7 -> F | F7: =Questionnaire!E7 -> 0 | G7: =Questionnaire!F7 -> Y | H7: =Questionnaire!G7 -> 7 | I7: =Questionnaire!H7 -> Y | J7: =Questionnaire!I7 -> Y | K7: =Questionnaire!J7 -> 20 | N7: =IF($G7="Y",$B7,"") -> 21.785516 | O7: =IF($G7="N",$B7,"") | T7: =IF($E7="F",$B7,"") -> 21.785516 | U7: =IF($E7="M",$B7,"")
A8: ='Data Tables'!A8 -> P5 | B8: ='Data Tables'!N44 -> 22.47449 | C8: ='Data Tables'!P44 -> 10.763671 | D8: ='Data Tables'!R44 -> 34.185308 | E8: =Questionnaire!D8 -> M | F8: =Questionnaire!E8 -> 28 | G8: =Questionnaire!F8 -> N | H8: =Questionnaire!G8 -> 8 | I8: =Questionnaire!H8 -> Y | J8: =Questionnaire!I8 -> Y | K8: =Questionnaire!J8 -> 50 | N8: =IF($G8="Y",$B8,"") | O8: =IF($G8="N",$B8,"") -> 22.47449 | T8: =IF($E8="F",$B8,"") | U8: =IF($E8="M",$B8,"") -> 22.47449
A9: ='Data Tables'!A9 -> P6 | B9: ='Data Tables'!N45 -> 28.710557 | C9: ='Data Tables'!P45 -> 13.727501 | D9: ='Data Tables'!R45 -> 43.693613 | E9: =Questionnaire!D9 -> F | F9: =Questionnaire!E9 -> 39 | G9: =Questionnaire!F9 -> N | H9: =Questionnaire!G9 -> 14 | I9: =Questionnaire!H9 -> Y | J9: =Questionnaire!I9 -> Y | K9: =Questionnaire!J9 -> 20 | N9: =IF($G9="Y",$B9,"") | O9: =IF($G9="N",$B9,"") -> 28.710557 | T9: =IF($E9="F",$B9,"") -> 28.710557 | U9: =IF($E9="M",$B9,"")
A10: ='Data Tables'!A10 -> P7 | B10: ='Data Tables'!N46 -> 33.038578 | C10: ='Data Tables'!P46 -> 16.145034 | D10: ='Data Tables'!R46 -> 49.932121 | E10: =Questionnaire!D10 -> F | F10: =Questionnaire!E10 -> 29 | G10: =Questionnaire!F10 -> Y | H10: =Questionnaire!G10 -> 11 | I10: =Questionnaire!H10 -> Y | J10: =Questionnaire!I10 -> Y | K10: =Questionnaire!J10 -> 50 | N10: =IF($G10="Y",$B10,"") -> 33.038578 | O10: =IF($G10="N",$B10,"") | T10: =IF($E10="F",$B10,"") -> 33.038578 | U10: =IF($E10="M",$B10,"")
A11: ='Data Tables'!A11 -> P8 | B11: ='Data Tables'!N47 -> 24.562752 | C11: ='Data Tables'!P47 -> 9.0533661 | D11: ='Data Tables'!R47 -> 40.072138 | E11: =Questionnaire!D11 -> M | F11: =Questionnaire!E11 -> 38 | G11: =Questionnaire!F11 -> N | H11: =Questionnaire!G11 -> 10 | I11: =Questionnaire!H11 -> Y | J11: =Questionnaire!I11 -> Y | K11: =Questionnaire!J11 -> 30 | N11: =IF($G11="Y",$B11,"") | O11: =IF($G11="N",$B11,"") -> 24.562752 | T11: =IF($E11="F",$B11,"") | U11: =IF($E11="M",$B11,"") -> 24.562752
A12: ='Data Tables'!A12 -> P9 | B12: ='Data Tables'!N48 -> 26.85667 | C12: ='Data Tables'!P48 -> 16.21356 | D12: ='Data Tables'!R48 -> 37.49978 | E12: =Questionnaire!D12 -> 0 | F12: =Questionnaire!E12 -> 39 | G12: =Questionnaire!F12 -> Y | H12: =Questionnaire!G12 -> 8 | I12: =Questionnaire!H12 -> Y | J12: =Questionnaire!I12 -> Y | K12: =Questionnaire!J12 -> 10 | N12: =IF($G12="Y",$B12,"") -> 26.85667 | O12: =IF($G12="N",$B12,"") | T12: =IF($E12="F",$B12,"") | U12: =IF($E12="M",$B12,"")
A13: ='Data Tables'!A13 -> P10 | B13: ='Data Tables'!N49 -> 30.215772 | C13: ='Data Tables'!P49 -> 14.30427 | D13: ='Data Tables'!R49 -> 46.127273 | E13: =Questionnaire!D13 -> F | F13: =Questionnaire!E13 -> 27 | G13: =Questionnaire!F13 -> Y | H13: =Questionnaire!G13 -> 8 | I13: =Questionnaire!H13 -> Y | J13: =Questionnaire!I13 -> Y | K13: =Questionnaire!J13 -> 100 | N13: =IF($G13="Y",$B13,"") -> 30.215772 | O13: =IF($G13="N",$B13,"") | T13: =IF($E13="F",$B13,"") -> 30.215772 | U13: =IF($E13="M",$B13,"")
A14: ='Data Tables'!A14 -> P11 | B14: ='Data Tables'!N50 -> 20.404246 | C14: ='Data Tables'!P50 -> 10.165085 | D14: ='Data Tables'!R50 -> 30.643407 | E14: =Questionnaire!D14 -> M | F14: =Questionnaire!E14 -> 27 | G14: =Questionnaire!F14 -> Y | H14: =Questionnaire!G14 -> 7.5 | I14: =Questionnaire!H14 -> Y | J14: =Questionnaire!I14 -> Y | K14: =Questionnaire!J14 -> 10 | N14: =IF($G14="Y",$B14,"") -> 20.404246 | O14: =IF($G14="N",$B14,"") | T14: =IF($E14="F",$B14,"") | U14: =IF($E14="M",$B14,"") -> 20.404246
A15: ='Data Tables'!A15 -> P12 | B15: ='Data Tables'!N51 -> 24.243993 | C15: ='Data Tables'!P51 -> 16.125969 | D15: ='Data Tables'!R51 -> 32.362017 | E15: =Questionnaire!D15 -> F | F15: =Questionnaire!E15 -> 38 | G15: =Questionnaire!F15 -> Y | H15: =Questionnaire!G15 -> 3 | I15: =Questionnaire!H15 -> Y | J15: =Questionnaire!I15 -> Y | K15: =Questionnaire!J15 -> 35 | N15: =IF($G15="Y",$B15,"") -> 24.243993 | O15: =IF($G15="N",$B15,"") | T15: =IF($E15="F",$B15,"") -> 24.243993 | U15: =IF($E15="M",$B15,"")
... A35: ='Data Tables'!A35 -> P32 | B35: ='Data Tables'!N71 -> 23.208346 | C35: ='Data Tables'!P71 -> 9.5562137 | D35: ='Data Tables'!R71 -> 36.860478 | E35: =Questionnaire!D35 -> F | F35: =Questionnaire!E35 -> 45 | G35: =Questionnaire!F35 -> N | H35: =Questionnaire!G35 -> 10 | I35: =Questionnaire!H35 -> Y | J35: =Questionnaire!I35 -> Y | K35: =Questionnaire!J35 -> 50 | N35: =IF($G35="Y",$B35,"") | O35: =IF($G35="N",$B35,"") -> 23.208346 | T35: =IF($E35="F",$B35,"") -> 23.208346 | U35: =IF($E35="M",$B35,"")
M38: Entry Speed (wpm) | N38: English | O38: Non-English | S38: Entry Speed (wpm) | T38: Female | U38: Male
M39: Mean | N39: =SUMIF(G4:G35,"=Y",B4:B35)/COUNTIF(G4:G35,"=Y") -> 25.816111 | O39: =SUMIF(G4:G35,"=N",B4:B35)/COUNTIF(G4:G35,"=N") -> 22.906445 | S39: Mean | T39: =AVERAGE(T4:T35) -> 23.266349 | U39: =AVERAGE(U4:U35) -> 24.917078
M40: SE | N40: =STDEV(N4:N35)/SQRT(COUNTIF(G4:G35,"=Y")) -> 1.2120013 | O40: =STDEV(O4:O35)/SQRT(COUNTIF(O4:O35,">0")) -> 0.83816964 | S40: SE | T40: =STDEV(T4:T35)/SQRT(COUNT(T4:T35)) -> 1.0792215 | U40: =STDEV(U4:U35)/SQRT(COUNT(U4:U35)) -> 0.85963642
I42: Correlation
I43: r =
I44: =CORREL(H4:H35,B4:B35) -> 0.11587417
I60: Correlation
I61: r =
I62: =CORREL(F4:F35,B4:B35) -> 0.11140145

Sheet Anovas
B2: Using GoStats
B29: Data: EntrySpeed.txt

Sheet Keyboards

Sheet CHI99
A1: A longitudinal study comparing the Opti and Qwerty software keyboards is presented in a CHI99 paper
A3: URL: http://www.yorku.ca/mack/CHI99a.html
A5: Main Result:
K8: Opti model (y=ax^b)
K9: a = | L9: 17.24
K10: b = | L10: 0.3219
K11: Qwerty model (y=ax^b)
K12: a = | L12: 27.597
K13: b = | L13: 0.1237
K15: Models crossover at
K16: session = | L16: =EXP(-LN(L9/L12)/(L10-L13)) -> 10.73745
